BEGIN:VCALENDAR
VERSION:2.0
PRODID:-//hacksw/handcal//NONSGML v1.0//EN
BEGIN:VEVENT
SUMMARY:Saint Sebastien et Tir du Roy
UID:a710a5e8-a76c-46f0-9450-902c00889cc9
DTSTART:20260509T113000Z
DTEND:20260509T150000Z
LOCATION:Localisation   
CATEGORIES:Festif
STATUS:
DESCRIPTION:<p>Rendez-vous sur le terrain chemin de Dame Hodierne a
 13 h 30 pour un debut des tirs a 14 h 00.</p>
URL;VALUE=URI:https://www.ciearchersdelatour-montlhery.com/evenements/2026/05/09/saint-sebastien-et-tir-du-roy-2440213
END:VEVENT
END:VCALENDAR
