BEGIN:VCALENDAR
VERSION:2.0
PRODID:-//hacksw/handcal//NONSGML v1.0//EN
BEGIN:VEVENT
SUMMARY:Sortie Club - CD91 TAE Les Ulis
UID:33050e12-9ea1-4a07-a5e1-4743a20ac6d1
DTSTART:20260607T110000Z
DTEND:20260607T150000Z
LOCATION:Localisation   
CATEGORIES:Sportif
STATUS:
DESCRIPTION:<p>Depart de 14 h 00.</p>
URL;VALUE=URI:https://www.ciearchersdelatour-montlhery.com/evenements/2026/06/07/sortie-club-cd91-tae-les-ulis-2440217
END:VEVENT
END:VCALENDAR
